BEGIN:VCALENDAR
VERSION:2.0
PRODID:-//Soccer Star Coaching - ECPv6.15.20//NONSGML v1.0//EN
CALSCALE:GREGORIAN
METHOD:PUBLISH
X-ORIGINAL-URL:https://soccerstarevents.com
X-WR-CALDESC:Events for Soccer Star Coaching
REFRESH-INTERVAL;VALUE=DURATION:PT1H
X-Robots-Tag:noindex
X-PUBLISHED-TTL:PT1H
BEGIN:VTIMEZONE
TZID:Europe/London
BEGIN:DAYLIGHT
TZOFFSETFROM:+0000
TZOFFSETTO:+0100
TZNAME:BST
DTSTART:20240331T010000
END:DAYLIGHT
BEGIN:STANDARD
TZOFFSETFROM:+0100
TZOFFSETTO:+0000
TZNAME:GMT
DTSTART:20241027T010000
END:STANDARD
BEGIN:DAYLIGHT
TZOFFSETFROM:+0000
TZOFFSETTO:+0100
TZNAME:BST
DTSTART:20250330T010000
END:DAYLIGHT
BEGIN:STANDARD
TZOFFSETFROM:+0100
TZOFFSETTO:+0000
TZNAME:GMT
DTSTART:20251026T010000
END:STANDARD
BEGIN:DAYLIGHT
TZOFFSETFROM:+0000
TZOFFSETTO:+0100
TZNAME:BST
DTSTART:20260329T010000
END:DAYLIGHT
BEGIN:STANDARD
TZOFFSETFROM:+0100
TZOFFSETTO:+0000
TZNAME:GMT
DTSTART:20261025T010000
END:STANDARD
BEGIN:DAYLIGHT
TZOFFSETFROM:+0000
TZOFFSETTO:+0100
TZNAME:BST
DTSTART:20270328T010000
END:DAYLIGHT
BEGIN:STANDARD
TZOFFSETFROM:+0100
TZOFFSETTO:+0000
TZNAME:GMT
DTSTART:20271031T010000
END:STANDARD
END:VTIMEZONE
BEGIN:VEVENT
DTSTART;VALUE=DATE:20260204
DTEND;VALUE=DATE:20260205
DTSTAMP:20260421T104312
CREATED:20251209T222118Z
LAST-MODIFIED:20260227T131347Z
UID:10002158-1770163200-1770249599@soccerstarevents.com
SUMMARY:ROSCOMMON WEEKLY SOCCER LESSONS (Jan - Mar 2026)
DESCRIPTION:1st Payment (€32) covers the following weeks:\n✅ 13th Jan [Week 1]\n✅ 20th Jan [Week 2]\n✅ 27th Jan [Week 3]\n✅ 3rd Feb [Week 4] \n⸻ \n  \n2nd Payment (€40) covers the following weeks:\n✅ 10th Feb [Week 5]\n❌ 17th Feb – No soccer due to mid-term\n✅ 24th Feb [Week 6]\n✅ 3rd Mar [Week 7]\n✅ 10th Mar [Week 8]\n❌ 17th Mar – No soccer due to Bank Holiday\n✅ 24th Mar [Week 9] – PRESENTATION 🏅
URL:https://soccerstarevents.com/event/roscmn-jan-mar-2026/
LOCATION:KILBRIDE COMMUNITY CENTRE\, Ballinderry\, Four Mile House\, Co. Roscommon\, F42 N277\, Ireland
CATEGORIES:Weekly Courses
ATTACH;FMTTYPE=image/png:https://soccerstarevents.com/wp-content/uploads/2025/12/Screenshot-2025-12-09-at-22.17.55.png
END:VEVENT
BEGIN:VEVENT
DTSTART;VALUE=DATE:20250916
DTEND;VALUE=DATE:20251217
DTSTAMP:20260421T104312
CREATED:20250616T123658Z
LAST-MODIFIED:20251202T121620Z
UID:10002130-1757980800-1765929599@soccerstarevents.com
SUMMARY:ROSCOMMON WEEKLY SOCCER LESSONS (Sept-Dec 2025)
DESCRIPTION:1st Payment (€32) covers the following weeks:\n✅ 16 Sept (Week 1)\n✅ 23 Sept (Week 2)\n✅ 30 Sept (Week 3)\n✅ 7 Oct (Week 4) \n\n2nd Payment (€32) covers the following weeks:\n✅ 14 Oct (Week 5)\n✅ 21 Oct (Week 6)\n❌ 28 Oct (NO SOCCER – MID TERM BREAK)\n✅ 4 Nov (Week 7)\n✅ 11 Nov (Week 8) \n  \n3rd Payment (€40) covers the following weeks:\n✅ 18 Nov (Week 9)\n✅ 25 Nov (Week 10)\n✅ 2 Dec (Week 11)\n✅ 9 Dec (Week 12)\n✅ 16 Dec – PRESENTATION 🏅 (Week 13) \n  \nPlease Note: Booking Fees apply and are non-refundable.
URL:https://soccerstarevents.com/event/roscommon-sept-dec-25/
LOCATION:KILBRIDE COMMUNITY CENTRE\, Ballinderry\, Four Mile House\, Co. Roscommon\, F42 N277\, Ireland
CATEGORIES:Weekly Courses
ATTACH;FMTTYPE=image/png:https://soccerstarevents.com/wp-content/uploads/2024/12/Screenshot-2024-12-17-at-13.51.31.png
END:VEVENT
BEGIN:VEVENT
DTSTART;VALUE=DATE:20250429
DTEND;VALUE=DATE:20250619
DTSTAMP:20260421T104312
CREATED:20241217T140549Z
LAST-MODIFIED:20250520T083236Z
UID:10002116-1745884800-1750291199@soccerstarevents.com
SUMMARY:ROSCOMMON WEEKLY SOCCER LESSONS
DESCRIPTION:1st Payment (€32) covers the following weeks: \n✅ 29 Apr\n✅ 6 May\n✅ 13 May\n✅ 20 May \n\n2nd Payment (€32) covers the following weeks: \n✅ 27 May\n✅ 3 Jun\n✅ 10 Jun\n✅ 17 Jun – PRESENTATION🏅
URL:https://soccerstarevents.com/event/rcmn-apr-jun-25/
LOCATION:KILBRIDE COMMUNITY CENTRE\, Ballinderry\, Four Mile House\, Co. Roscommon\, F42 N277\, Ireland
CATEGORIES:Weekly Courses
ATTACH;FMTTYPE=image/png:https://soccerstarevents.com/wp-content/uploads/2024/12/Screenshot-2024-12-17-at-13.51.31.png
END:VEVENT
END:VCALENDAR