BEGIN:VCALENDAR
VERSION:2.0
PRODID:-//Soccer Star Coaching - ECPv6.15.20//NONSGML v1.0//EN
CALSCALE:GREGORIAN
METHOD:PUBLISH
X-WR-CALNAME:Soccer Star Coaching
X-ORIGINAL-URL:https://soccerstarevents.com
X-WR-CALDESC:Events for Soccer Star Coaching
REFRESH-INTERVAL;VALUE=DURATION:PT1H
X-Robots-Tag:noindex
X-PUBLISHED-TTL:PT1H
BEGIN:VTIMEZONE
TZID:Europe/London
BEGIN:DAYLIGHT
TZOFFSETFROM:+0000
TZOFFSETTO:+0100
TZNAME:BST
DTSTART:20220327T010000
END:DAYLIGHT
BEGIN:STANDARD
TZOFFSETFROM:+0100
TZOFFSETTO:+0000
TZNAME:GMT
DTSTART:20221030T010000
END:STANDARD
BEGIN:DAYLIGHT
TZOFFSETFROM:+0000
TZOFFSETTO:+0100
TZNAME:BST
DTSTART:20230326T010000
END:DAYLIGHT
BEGIN:STANDARD
TZOFFSETFROM:+0100
TZOFFSETTO:+0000
TZNAME:GMT
DTSTART:20231029T010000
END:STANDARD
BEGIN:DAYLIGHT
TZOFFSETFROM:+0000
TZOFFSETTO:+0100
TZNAME:BST
DTSTART:20240331T010000
END:DAYLIGHT
BEGIN:STANDARD
TZOFFSETFROM:+0100
TZOFFSETTO:+0000
TZNAME:GMT
DTSTART:20241027T010000
END:STANDARD
BEGIN:DAYLIGHT
TZOFFSETFROM:+0000
TZOFFSETTO:+0100
TZNAME:BST
DTSTART:20250330T010000
END:DAYLIGHT
BEGIN:STANDARD
TZOFFSETFROM:+0100
TZOFFSETTO:+0000
TZNAME:GMT
DTSTART:20251026T010000
END:STANDARD
END:VTIMEZONE
BEGIN:VEVENT
DTSTART;VALUE=DATE:20240620
DTEND;VALUE=DATE:20240719
DTSTAMP:20260421T133650
CREATED:20240611T142100Z
LAST-MODIFIED:20240611T142100Z
UID:10002087-1718841600-1721347199@soccerstarevents.com
SUMMARY:SALFORD WEEKLY |  PAYMENT 3 of 3 | Weeks 9-13
DESCRIPTION:This payment is for 5 weeks \nDates include: \n✅ 20 June\n✅ 27 June\n✅  4 July\n✅  11 July\n✅  18 July – PRESENTATION WEEK 🏆\n \n  \nPlease note: Booking fees are non refundable 
URL:https://soccerstarevents.com/event/salford-3rd-pay-wk-9-13/
LOCATION:Ellesmere Park High School\, Wentworth Road\, Eccles\,\, Manchester\, M30 9BP\, United Kingdom
CATEGORIES:Weekly Courses
ATTACH;FMTTYPE=image/png:https://soccerstarevents.com/wp-content/uploads/2024/06/Screenshot-2024-06-04-at-04.00.12.png
GEO:53.4926332;-2.3331731
X-APPLE-STRUCTURED-LOCATION;VALUE=URI;X-ADDRESS=Ellesmere Park High School Wentworth Road Eccles Manchester M30 9BP United Kingdom;X-APPLE-RADIUS=500;X-TITLE=Wentworth Road\, Eccles\,:geo:-2.3331731,53.4926332
END:VEVENT
BEGIN:VEVENT
DTSTART;VALUE=DATE:20240516
DTEND;VALUE=DATE:20240614
DTSTAMP:20260421T133650
CREATED:20240509T125025Z
LAST-MODIFIED:20240523T101944Z
UID:10002081-1715817600-1718323199@soccerstarevents.com
SUMMARY:SALFORD WEEKLY | 2nd PAYMENT | Weeks 5-8
DESCRIPTION:Dates include: \n✅ 16 May \n✅ 23 May \n❌ 30th May (Off Half Term) \n✅  6 June \n✅  13 June
URL:https://soccerstarevents.com/event/salford-weekly-2nd-payment-weeks-5-9/
LOCATION:Ellesmere Park High School\, Wentworth Road\, Eccles\,\, Manchester\, M30 9BP\, United Kingdom
CATEGORIES:Weekly Courses
GEO:53.4926332;-2.3331731
X-APPLE-STRUCTURED-LOCATION;VALUE=URI;X-ADDRESS=Ellesmere Park High School Wentworth Road Eccles Manchester M30 9BP United Kingdom;X-APPLE-RADIUS=500;X-TITLE=Wentworth Road\, Eccles\,:geo:-2.3331731,53.4926332
END:VEVENT
BEGIN:VEVENT
DTSTART;VALUE=DATE:20240425
DTEND;VALUE=DATE:20240510
DTSTAMP:20260421T133650
CREATED:20240423T113446Z
LAST-MODIFIED:20240423T113551Z
UID:10002073-1714003200-1715299199@soccerstarevents.com
SUMMARY:SALFORD OUTDOOR WEEKLY | Pay after taster session
DESCRIPTION:This payment is for 3 weeks of the term (3 Sessions)  \nDates include: \n\n✅ 25th April\n✅ 2nd May\n✅ 9th May\n \nPlease Note: Booking Fees apply and are non-refundable.
URL:https://soccerstarevents.com/event/salford-outdoor-weekly-pay-after-taster-session/
LOCATION:Ellesmere Park High School\, Wentworth Road\, Eccles\,\, Manchester\, M30 9BP\, United Kingdom
CATEGORIES:Weekly Courses
GEO:53.4926332;-2.3331731
X-APPLE-STRUCTURED-LOCATION;VALUE=URI;X-ADDRESS=Ellesmere Park High School Wentworth Road Eccles Manchester M30 9BP United Kingdom;X-APPLE-RADIUS=500;X-TITLE=Wentworth Road\, Eccles\,:geo:-2.3331731,53.4926332
END:VEVENT
BEGIN:VEVENT
DTSTART;VALUE=DATE:20240418
DTEND;VALUE=DATE:20240726
DTSTAMP:20260421T133650
CREATED:20240306T163453Z
LAST-MODIFIED:20240513T105810Z
UID:10002065-1713398400-1721951999@soccerstarevents.com
SUMMARY:SALFORD OUTDOOR WEEKLY LESSONS (Apr-July 2024)
DESCRIPTION:NEW START DATE: THURSDAY 18TH APRIL 2024\nThis payment is for the first 4 weeks of the term (4 Sessions)  \nDates include: \n\n✅ 18th April\n✅ 25th April\n✅ 2nd May\n✅ 9th May\n \nPlease Note: Booking Fees apply and are non-refundable.
URL:https://soccerstarevents.com/event/salford-outdoor-weekly-lessons-apr-july-2024/
LOCATION:Ellesmere Park High School\, Wentworth Road\, Eccles\,\, Manchester\, M30 9BP\, United Kingdom
CATEGORIES:Weekly Courses
GEO:53.4926332;-2.3331731
X-APPLE-STRUCTURED-LOCATION;VALUE=URI;X-ADDRESS=Ellesmere Park High School Wentworth Road Eccles Manchester M30 9BP United Kingdom;X-APPLE-RADIUS=500;X-TITLE=Wentworth Road\, Eccles\,:geo:-2.3331731,53.4926332
END:VEVENT
BEGIN:VEVENT
DTSTART;VALUE=DATE:20240208
DTEND;VALUE=DATE:20240301
DTSTAMP:20260421T133650
CREATED:20240201T102753Z
LAST-MODIFIED:20240201T102753Z
UID:10002054-1707350400-1709251199@soccerstarevents.com
SUMMARY:SALFORD WEEKLY LESSONS (Payment after Free Taster Session)
DESCRIPTION:
URL:https://soccerstarevents.com/event/salford-weekly-lessons-payment-after-free-taster-session/
LOCATION:Ellesmere Park High School\, Wentworth Road\, Eccles\,\, Manchester\, M30 9BP\, United Kingdom
CATEGORIES:Weekly Courses
GEO:53.4926332;-2.3331731
X-APPLE-STRUCTURED-LOCATION;VALUE=URI;X-ADDRESS=Ellesmere Park High School Wentworth Road Eccles Manchester M30 9BP United Kingdom;X-APPLE-RADIUS=500;X-TITLE=Wentworth Road\, Eccles\,:geo:-2.3331731,53.4926332
END:VEVENT
BEGIN:VEVENT
DTSTART;VALUE=DATE:20240201
DTEND;VALUE=DATE:20240322
DTSTAMP:20260421T133650
CREATED:20231128T172637Z
LAST-MODIFIED:20240130T100607Z
UID:10002042-1706745600-1711065599@soccerstarevents.com
SUMMARY:SALFORD FOOTBALL LESSONS (Feb - Mar 2024)
DESCRIPTION:This payment is for the first 4 weeks of the course (4 Sessions) \nDates include: \n✅ 1 Feb\n✅ 8 Feb\n✅15 Feb\n❌ 22 Feb (OFF – HALF TERM)\n✅ 29 Feb\n \nPlease Note: Booking Fees apply and are non-refundable. \n  \n\n \n  \n 
URL:https://soccerstarevents.com/event/salford-football-lessons/
LOCATION:Ellesmere Park High School\, Wentworth Road\, Eccles\,\, Manchester\, M30 9BP\, United Kingdom
CATEGORIES:Weekly Courses
ATTACH;FMTTYPE=image/png:https://soccerstarevents.com/wp-content/uploads/2022/06/IMG_0388.png
GEO:53.4926332;-2.3331731
X-APPLE-STRUCTURED-LOCATION;VALUE=URI;X-ADDRESS=Ellesmere Park High School Wentworth Road Eccles Manchester M30 9BP United Kingdom;X-APPLE-RADIUS=500;X-TITLE=Wentworth Road\, Eccles\,:geo:-2.3331731,53.4926332
END:VEVENT
BEGIN:VEVENT
DTSTART;VALUE=DATE:20231116
DTEND;VALUE=DATE:20231215
DTSTAMP:20260421T133650
CREATED:20231103T135004Z
LAST-MODIFIED:20231216T205325Z
UID:10002036-1700092800-1702598399@soccerstarevents.com
SUMMARY:SALFORD 2ND PAYMENT SEPT - DEC 2023
DESCRIPTION:This payment is for the 2nd half of the term (5 Sessions)  \nDates include: \n✅ 16th Nov\n✅ 23rd Nov\n✅ 30th Nov\n✅ 7th Dec\n✅ 14th Dec – Presentation week 🏆 \nPlease Note: Booking Fees apply and are non-refundable.
URL:https://soccerstarevents.com/event/salford-2nd-payment-sept-dec-2023/
LOCATION:Ellesmere Park High School\, Wentworth Road\, Eccles\,\, Manchester\, M30 9BP\, United Kingdom
CATEGORIES:Food Booking,Weekly Courses
ATTACH;FMTTYPE=image/png:https://soccerstarevents.com/wp-content/uploads/2023/02/Screenshot-2023-02-04-at-19.26.19.png
GEO:53.4926332;-2.3331731
X-APPLE-STRUCTURED-LOCATION;VALUE=URI;X-ADDRESS=Ellesmere Park High School Wentworth Road Eccles Manchester M30 9BP United Kingdom;X-APPLE-RADIUS=500;X-TITLE=Wentworth Road\, Eccles\,:geo:-2.3331731,53.4926332
END:VEVENT
END:VCALENDAR