BEGIN:VCALENDAR
VERSION:2.0
PRODID:-//Soccer Star Coaching - ECPv6.15.20//NONSGML v1.0//EN
CALSCALE:GREGORIAN
METHOD:PUBLISH
X-WR-CALNAME:Soccer Star Coaching
X-ORIGINAL-URL:https://soccerstarevents.com
X-WR-CALDESC:Events for Soccer Star Coaching
REFRESH-INTERVAL;VALUE=DURATION:PT1H
X-Robots-Tag:noindex
X-PUBLISHED-TTL:PT1H
BEGIN:VTIMEZONE
TZID:Europe/London
BEGIN:DAYLIGHT
TZOFFSETFROM:+0000
TZOFFSETTO:+0100
TZNAME:BST
DTSTART:20250330T010000
END:DAYLIGHT
BEGIN:STANDARD
TZOFFSETFROM:+0100
TZOFFSETTO:+0000
TZNAME:GMT
DTSTART:20251026T010000
END:STANDARD
BEGIN:DAYLIGHT
TZOFFSETFROM:+0000
TZOFFSETTO:+0100
TZNAME:BST
DTSTART:20260329T010000
END:DAYLIGHT
BEGIN:STANDARD
TZOFFSETFROM:+0100
TZOFFSETTO:+0000
TZNAME:GMT
DTSTART:20261025T010000
END:STANDARD
BEGIN:DAYLIGHT
TZOFFSETFROM:+0000
TZOFFSETTO:+0100
TZNAME:BST
DTSTART:20270328T010000
END:DAYLIGHT
BEGIN:STANDARD
TZOFFSETFROM:+0100
TZOFFSETTO:+0000
TZNAME:GMT
DTSTART:20271031T010000
END:STANDARD
END:VTIMEZONE
BEGIN:VEVENT
DTSTART;VALUE=DATE:20260413
DTEND;VALUE=DATE:20260714
DTSTAMP:20260420T164125
CREATED:20260304T104724Z
LAST-MODIFIED:20260308T095931Z
UID:10002163-1776038400-1783987199@soccerstarevents.com
SUMMARY:WEDNESFIELD WEEKLY LESSONS (Apr - Jul 2026)
DESCRIPTION:1st Payment (£36) covers the following weeks: \n✅ 13 Apr [Week 1]\n✅ 20 Apr [Week 2]\n✅ 27 Apr [Week 3]\n❌ 4 May – NO FOOTBALL due to Bank Holiday\n✅ 11 May [Week 4] \n————— \n2nd Payment (£36) covers the following weeks: \n✅ 18 May [Week 5]\n❌ 25 May – NO FOOTBALL due to Half Term\n✅ 1 June [Week 6]\n✅ 8 June [Week 7]\n✅ 15 June [Week 8] \n————— \n3rd Payment (£36) covers the following weeks: \n✅ 22 June [Week 9]\n✅ 29 June [Week 10]\n✅ 6 July [Week 11]\n✅ 13 July [Week 12] – PRESENTATION 🏆
URL:https://soccerstarevents.com/event/wednesfield-apr-jul-26/
LOCATION:COPPICE PERFORMING ARTS SCHOOL\, Ecclestone Road\, Wednesfield\, WV11 2QE\, United Kingdom
CATEGORIES:Weekly Courses
ATTACH;FMTTYPE=image/png:https://soccerstarevents.com/wp-content/uploads/2025/12/Screenshot-2025-12-09-at-19.33.35.png
GEO:52.611402;-2.053186
X-APPLE-STRUCTURED-LOCATION;VALUE=URI;X-ADDRESS=COPPICE PERFORMING ARTS SCHOOL Ecclestone Road Wednesfield WV11 2QE United Kingdom;X-APPLE-RADIUS=500;X-TITLE=Ecclestone Road:geo:-2.053186,52.611402
END:VEVENT
END:VCALENDAR