BEGIN:VCALENDAR
VERSION:2.0
PRODID:-//Soccer Star Coaching - ECPv6.15.20//NONSGML v1.0//EN
CALSCALE:GREGORIAN
METHOD:PUBLISH
X-ORIGINAL-URL:https://soccerstarevents.com
X-WR-CALDESC:Events for Soccer Star Coaching
REFRESH-INTERVAL;VALUE=DURATION:PT1H
X-Robots-Tag:noindex
X-PUBLISHED-TTL:PT1H
BEGIN:VTIMEZONE
TZID:Europe/London
BEGIN:DAYLIGHT
TZOFFSETFROM:+0000
TZOFFSETTO:+0100
TZNAME:BST
DTSTART:20220327T010000
END:DAYLIGHT
BEGIN:STANDARD
TZOFFSETFROM:+0100
TZOFFSETTO:+0000
TZNAME:GMT
DTSTART:20221030T010000
END:STANDARD
BEGIN:DAYLIGHT
TZOFFSETFROM:+0000
TZOFFSETTO:+0100
TZNAME:BST
DTSTART:20230326T010000
END:DAYLIGHT
BEGIN:STANDARD
TZOFFSETFROM:+0100
TZOFFSETTO:+0000
TZNAME:GMT
DTSTART:20231029T010000
END:STANDARD
BEGIN:DAYLIGHT
TZOFFSETFROM:+0000
TZOFFSETTO:+0100
TZNAME:BST
DTSTART:20240331T010000
END:DAYLIGHT
BEGIN:STANDARD
TZOFFSETFROM:+0100
TZOFFSETTO:+0000
TZNAME:GMT
DTSTART:20241027T010000
END:STANDARD
BEGIN:DAYLIGHT
TZOFFSETFROM:+0000
TZOFFSETTO:+0100
TZNAME:BST
DTSTART:20250330T010000
END:DAYLIGHT
BEGIN:STANDARD
TZOFFSETFROM:+0100
TZOFFSETTO:+0000
TZNAME:GMT
DTSTART:20251026T010000
END:STANDARD
END:VTIMEZONE
BEGIN:VEVENT
DTSTART;VALUE=DATE:20240119
DTEND;VALUE=DATE:20240210
DTSTAMP:20260423T154524
CREATED:20240112T131346Z
LAST-MODIFIED:20240112T131346Z
UID:10002052-1705622400-1707523199@soccerstarevents.com
SUMMARY:NOTTINGHAM WEEKLY FOOTBALL LESSONS (Pay after taster session)
DESCRIPTION:
URL:https://soccerstarevents.com/event/nottingham-weekly-football-lessons-pay-after-taster-session/
LOCATION:BROCKLEHIGH COMMUNITY SPORTS & ART CENTRE\, (On site at: Brocklewood Primary School)\, Beechdale Road\, Nottingham\, NG8 3AJ\, United Kingdom
CATEGORIES:Weekly Courses
GEO:52.972249;-1.217378
X-APPLE-STRUCTURED-LOCATION;VALUE=URI;X-ADDRESS=BROCKLEHIGH COMMUNITY SPORTS & ART CENTRE (On site at: Brocklewood Primary School) Beechdale Road Nottingham NG8 3AJ United Kingdom;X-APPLE-RADIUS=500;X-TITLE=(On site at: Brocklewood Primary School)\, Beechdale Road:geo:-1.217378,52.972249
END:VEVENT
BEGIN:VEVENT
DTSTART;VALUE=DATE:20240112
DTEND;VALUE=DATE:20240210
DTSTAMP:20260423T154524
CREATED:20231128T165354Z
LAST-MODIFIED:20240111T210338Z
UID:10002041-1705017600-1707523199@soccerstarevents.com
SUMMARY:NOTTINGHAM WEEKLY FOOTBALL LESSONS (Jan - Mar 2024)
DESCRIPTION:
URL:https://soccerstarevents.com/event/nottingham-weekly-football-lessons-jan-mar-2024/
LOCATION:BROCKLEHIGH COMMUNITY SPORTS & ART CENTRE\, (On site at: Brocklewood Primary School)\, Beechdale Road\, Nottingham\, NG8 3AJ\, United Kingdom
CATEGORIES:Weekly Courses
ATTACH;FMTTYPE=image/png:https://soccerstarevents.com/wp-content/uploads/2022/06/IMG_0388.png
GEO:52.972249;-1.217378
X-APPLE-STRUCTURED-LOCATION;VALUE=URI;X-ADDRESS=BROCKLEHIGH COMMUNITY SPORTS & ART CENTRE (On site at: Brocklewood Primary School) Beechdale Road Nottingham NG8 3AJ United Kingdom;X-APPLE-RADIUS=500;X-TITLE=(On site at: Brocklewood Primary School)\, Beechdale Road:geo:-1.217378,52.972249
END:VEVENT
BEGIN:VEVENT
DTSTART;VALUE=DATE:20231110
DTEND;VALUE=DATE:20231216
DTSTAMP:20260423T154524
CREATED:20231011T090755Z
LAST-MODIFIED:20231011T090755Z
UID:10002035-1699574400-1702684799@soccerstarevents.com
SUMMARY:NOTTINGHAM 2ND PAYMENT SEPT -DEC 2023
DESCRIPTION:This payment is for the 2nd half of the term (6 Sessions) \nDates include: \n✅ 10th Nov\n✅ 17th Nov\n✅ 24th Nov\n✅ 1st Dec\n✅ 8th Dec\n✅ 15th Dec – Presentation week 🏆 \nPlease Note: Booking Fees apply and are non-refundable.
URL:https://soccerstarevents.com/event/nottingham-2nd-payment-sept-dec-2023/
LOCATION:BROCKLEHIGH COMMUNITY SPORTS & ART CENTRE\, (On site at: Brocklewood Primary School)\, Beechdale Road\, Nottingham\, NG8 3AJ\, United Kingdom
CATEGORIES:Weekly Courses
ATTACH;FMTTYPE=image/png:https://soccerstarevents.com/wp-content/uploads/2023/02/Screenshot-2023-02-04-at-19.26.19.png
GEO:52.972249;-1.217378
X-APPLE-STRUCTURED-LOCATION;VALUE=URI;X-ADDRESS=BROCKLEHIGH COMMUNITY SPORTS & ART CENTRE (On site at: Brocklewood Primary School) Beechdale Road Nottingham NG8 3AJ United Kingdom;X-APPLE-RADIUS=500;X-TITLE=(On site at: Brocklewood Primary School)\, Beechdale Road:geo:-1.217378,52.972249
END:VEVENT
END:VCALENDAR