BEGIN:VCALENDAR
VERSION:2.0
PRODID:-//Soccer Star Coaching - ECPv6.15.20//NONSGML v1.0//EN
CALSCALE:GREGORIAN
METHOD:PUBLISH
X-ORIGINAL-URL:https://soccerstarevents.com
X-WR-CALDESC:Events for Soccer Star Coaching
REFRESH-INTERVAL;VALUE=DURATION:PT1H
X-Robots-Tag:noindex
X-PUBLISHED-TTL:PT1H
BEGIN:VTIMEZONE
TZID:Europe/London
BEGIN:DAYLIGHT
TZOFFSETFROM:+0000
TZOFFSETTO:+0100
TZNAME:BST
DTSTART:20250330T010000
END:DAYLIGHT
BEGIN:STANDARD
TZOFFSETFROM:+0100
TZOFFSETTO:+0000
TZNAME:GMT
DTSTART:20251026T010000
END:STANDARD
BEGIN:DAYLIGHT
TZOFFSETFROM:+0000
TZOFFSETTO:+0100
TZNAME:BST
DTSTART:20260329T010000
END:DAYLIGHT
BEGIN:STANDARD
TZOFFSETFROM:+0100
TZOFFSETTO:+0000
TZNAME:GMT
DTSTART:20261025T010000
END:STANDARD
BEGIN:DAYLIGHT
TZOFFSETFROM:+0000
TZOFFSETTO:+0100
TZNAME:BST
DTSTART:20270328T010000
END:DAYLIGHT
BEGIN:STANDARD
TZOFFSETFROM:+0100
TZOFFSETTO:+0000
TZNAME:GMT
DTSTART:20271031T010000
END:STANDARD
END:VTIMEZONE
BEGIN:VEVENT
DTSTART;VALUE=DATE:20260417
DTEND;VALUE=DATE:20260718
DTSTAMP:20260419T135110
CREATED:20260312T203134Z
LAST-MODIFIED:20260312T203134Z
UID:10002167-1776384000-1784332799@soccerstarevents.com
SUMMARY:NOTTINGHAM WEEKLY LESSONS (Apr - July 2026
DESCRIPTION:1st Payment (£36) covers the following weeks:\n✅ 17 Apr [Week 1]\n✅ 24 Apr [Week 2]\n✅ 1 May [Week 3]\n✅ 8 May [Week 4] \n_________________ \n2nd Payment (£36) covers the following weeks:\n✅ 15 May [Week 5]\n✅ 22 May [Week 6]\n❌ 29 May – NO FOOTBALL due to Half Term\n✅ 5 June [Week 7]\n✅ 12 June [Week 8] \n_________________ \n3rd Payment (£36) covers the following weeks:\n✅ 19 June [Week 9]\n✅ 26 June [Week 10]\n✅ 3 July [Week 11]\n✅ 10 July [Week 12] – PRESENTATION 🏆
URL:https://soccerstarevents.com/event/nottingham-apr-jul-2026/
LOCATION:BROCKLEHIGH COMMUNITY SPORTS & ART CENTRE\, (On site at: Brocklewood Primary School)\, Beechdale Road\, Nottingham\, NG8 3AJ\, United Kingdom
CATEGORIES:Weekly Courses
ATTACH;FMTTYPE=image/png:https://soccerstarevents.com/wp-content/uploads/2025/12/NOTTINGHAM-WEEKLY-FOOTBALL-LESSONS.png
GEO:52.972249;-1.217378
X-APPLE-STRUCTURED-LOCATION;VALUE=URI;X-ADDRESS=BROCKLEHIGH COMMUNITY SPORTS & ART CENTRE (On site at: Brocklewood Primary School) Beechdale Road Nottingham NG8 3AJ United Kingdom;X-APPLE-RADIUS=500;X-TITLE=(On site at: Brocklewood Primary School)\, Beechdale Road:geo:-1.217378,52.972249
END:VEVENT
END:VCALENDAR