BEGIN:VCALENDAR
VERSION:2.0
PRODID:-//Soccer Star Coaching - ECPv6.15.20//NONSGML v1.0//EN
CALSCALE:GREGORIAN
METHOD:PUBLISH
X-ORIGINAL-URL:https://soccerstarevents.com
X-WR-CALDESC:Events for Soccer Star Coaching
REFRESH-INTERVAL;VALUE=DURATION:PT1H
X-Robots-Tag:noindex
X-PUBLISHED-TTL:PT1H
BEGIN:VTIMEZONE
TZID:Europe/London
BEGIN:DAYLIGHT
TZOFFSETFROM:+0000
TZOFFSETTO:+0100
TZNAME:BST
DTSTART:20240331T010000
END:DAYLIGHT
BEGIN:STANDARD
TZOFFSETFROM:+0100
TZOFFSETTO:+0000
TZNAME:GMT
DTSTART:20241027T010000
END:STANDARD
BEGIN:DAYLIGHT
TZOFFSETFROM:+0000
TZOFFSETTO:+0100
TZNAME:BST
DTSTART:20250330T010000
END:DAYLIGHT
BEGIN:STANDARD
TZOFFSETFROM:+0100
TZOFFSETTO:+0000
TZNAME:GMT
DTSTART:20251026T010000
END:STANDARD
BEGIN:DAYLIGHT
TZOFFSETFROM:+0000
TZOFFSETTO:+0100
TZNAME:BST
DTSTART:20260329T010000
END:DAYLIGHT
BEGIN:STANDARD
TZOFFSETFROM:+0100
TZOFFSETTO:+0000
TZNAME:GMT
DTSTART:20261025T010000
END:STANDARD
BEGIN:DAYLIGHT
TZOFFSETFROM:+0000
TZOFFSETTO:+0100
TZNAME:BST
DTSTART:20270328T010000
END:DAYLIGHT
BEGIN:STANDARD
TZOFFSETFROM:+0100
TZOFFSETTO:+0000
TZNAME:GMT
DTSTART:20271031T010000
END:STANDARD
END:VTIMEZONE
BEGIN:VEVENT
DTSTART;TZID=Europe/London:20260219T100000
DTEND;TZID=Europe/London:20260219T150000
DTSTAMP:20260420T052821
CREATED:20251206T214613Z
LAST-MODIFIED:20260126T152856Z
UID:10002154-1771495200-1771513200@soccerstarevents.com
SUMMARY:BALLINAMORE INDOOR 1 DAY CAMP
DESCRIPTION:
URL:https://soccerstarevents.com/event/ballinamore-indoor-1-day-camp/
LOCATION:BALLINAMORE SPORTS COMPLEX\, Swanlinbar Road\, Ballinamore\, Co. Leitrim\, N41 R522\, Ireland
CATEGORIES:Camps
ATTACH;FMTTYPE=image/png:https://soccerstarevents.com/wp-content/uploads/2025/12/Screenshot-2025-11-23-at-12.37.16.png
END:VEVENT
BEGIN:VEVENT
DTSTART;VALUE=DATE:20260115
DTEND;VALUE=DATE:20260327
DTSTAMP:20260420T052821
CREATED:20251212T135246Z
LAST-MODIFIED:20260117T152437Z
UID:10002161-1768435200-1774569599@soccerstarevents.com
SUMMARY:BALLINAMORE WEEKLY SOCCER LESSONS (Jan - Mar 2026)
DESCRIPTION:1st Payment (€32) covers the following weeks:\n✅ 15th Jan [Week 1]\n✅ 22nd Jan [Week 2]\n✅ 29th Jan [Week 3]\n✅ 5th Feb [Week 4] \n  \n2nd Payment (€48) covers the following weeks:\n✅ 12th Feb [Week 5]\n❌ 19th Feb – No football due to mid-term\n✅ 26th Feb [Week 6]\n✅ 5th Mar [Week 7]\n✅ 12th Mar [Week 8]\n✅ 19th Mar [Week 9]\n✅ 26th Mar [Week 10] – PRESENTATION 🏅\n \nPlease Note: Booking Fees apply and are non-refundable.
URL:https://soccerstarevents.com/event/blnmr-jan-mar-2026/
LOCATION:BALLINAMORE SPORTS COMPLEX\, Swanlinbar Road\, Ballinamore\, Co. Leitrim\, N41 R522\, Ireland
CATEGORIES:Weekly Courses
ATTACH;FMTTYPE=image/png:https://soccerstarevents.com/wp-content/uploads/2025/12/Screenshot-2025-12-12-at-13.47.22.png
END:VEVENT
BEGIN:VEVENT
DTSTART;VALUE=DATE:20250918
DTEND;VALUE=DATE:20251219
DTSTAMP:20260420T052821
CREATED:20250619T101104Z
LAST-MODIFIED:20251114T100236Z
UID:10002131-1758153600-1766102399@soccerstarevents.com
SUMMARY:BALLINAMORE WEEKLY SOCCER LESSONS (Sept - Dec 2025)
DESCRIPTION:  \n1st Payment (€32) covers the following weeks: \n✅ 18 Sept (Week 1)\n✅ 25 Sept (Week 2)\n✅ 2 Oct (Week 3)\n✅ 9 Oct (Week 4) \n—— \n2nd Payment (€32) covers the following weeks:\n✅ 16 Oct (Week 5)\n✅ 23 Oct (Week 6)\n🚫 30 Oct — NO SOCCER (Mid-term)\n✅ 6 Nov (Week 7)\n✅ 13 Nov (Week 8) \n——- \n3rd Payment (€40) covers the following weeks:\n✅ 20 Nov (Week 9)\n✅ 27 Nov (Week 10)\n✅ 4 Dec (Week 11)\n✅ 11 Dec (Week 12)\n✅ 18 Dec (week 13) – PRESENTATION🏅\n \n  \nPlease Note: Booking Fees apply and are non-refundable.
URL:https://soccerstarevents.com/event/blnmor-sept-dec-25/
LOCATION:BALLINAMORE SPORTS COMPLEX\, Swanlinbar Road\, Ballinamore\, Co. Leitrim\, N41 R522\, Ireland
CATEGORIES:Weekly Courses
ATTACH;FMTTYPE=image/png:https://soccerstarevents.com/wp-content/uploads/2024/12/Screenshot-2024-12-20-at-20.40.41.png
END:VEVENT
BEGIN:VEVENT
DTSTART;VALUE=DATE:20250501
DTEND;VALUE=DATE:20250620
DTSTAMP:20260420T052821
CREATED:20241220T204611Z
LAST-MODIFIED:20250521T081704Z
UID:10002118-1746057600-1750377599@soccerstarevents.com
SUMMARY:BALLINAMORE WEEKLY SOCCER LESSONS
DESCRIPTION:1st Payment (€32) covers the following weeks: \n✅ 1 May\n✅ 8 May\n✅ 15 May\n✅ 22 May \n\n2nd Payment (€32) covers the following weeks: \n✅ 29 May\n✅ 5 Jun\n✅ 12 Jun\n✅ 19 Jun – PRESENTATION🏅
URL:https://soccerstarevents.com/event/blnmor-apr-jun-25/
LOCATION:BALLINAMORE SPORTS COMPLEX\, Swanlinbar Road\, Ballinamore\, Co. Leitrim\, N41 R522\, Ireland
CATEGORIES:Weekly Courses
ATTACH;FMTTYPE=image/png:https://soccerstarevents.com/wp-content/uploads/2024/12/Screenshot-2024-12-20-at-20.40.41.png
END:VEVENT
END:VCALENDAR