BEGIN:VCALENDAR
VERSION:2.0
PRODID:-//Soccer Star Coaching - ECPv6.15.20//NONSGML v1.0//EN
CALSCALE:GREGORIAN
METHOD:PUBLISH
X-WR-CALNAME:Soccer Star Coaching
X-ORIGINAL-URL:https://soccerstarevents.com
X-WR-CALDESC:Events for Soccer Star Coaching
REFRESH-INTERVAL;VALUE=DURATION:PT1H
X-Robots-Tag:noindex
X-PUBLISHED-TTL:PT1H
BEGIN:VTIMEZONE
TZID:Europe/London
BEGIN:DAYLIGHT
TZOFFSETFROM:+0000
TZOFFSETTO:+0100
TZNAME:BST
DTSTART:20230326T010000
END:DAYLIGHT
BEGIN:STANDARD
TZOFFSETFROM:+0100
TZOFFSETTO:+0000
TZNAME:GMT
DTSTART:20231029T010000
END:STANDARD
BEGIN:DAYLIGHT
TZOFFSETFROM:+0000
TZOFFSETTO:+0100
TZNAME:BST
DTSTART:20240331T010000
END:DAYLIGHT
BEGIN:STANDARD
TZOFFSETFROM:+0100
TZOFFSETTO:+0000
TZNAME:GMT
DTSTART:20241027T010000
END:STANDARD
BEGIN:DAYLIGHT
TZOFFSETFROM:+0000
TZOFFSETTO:+0100
TZNAME:BST
DTSTART:20250330T010000
END:DAYLIGHT
BEGIN:STANDARD
TZOFFSETFROM:+0100
TZOFFSETTO:+0000
TZNAME:GMT
DTSTART:20251026T010000
END:STANDARD
BEGIN:DAYLIGHT
TZOFFSETFROM:+0000
TZOFFSETTO:+0100
TZNAME:BST
DTSTART:20260329T010000
END:DAYLIGHT
BEGIN:STANDARD
TZOFFSETFROM:+0100
TZOFFSETTO:+0000
TZNAME:GMT
DTSTART:20261025T010000
END:STANDARD
END:VTIMEZONE
BEGIN:VEVENT
DTSTART;VALUE=DATE:20250414
DTEND;VALUE=DATE:20250418
DTSTAMP:20260420T033605
CREATED:20250104T203325Z
LAST-MODIFIED:20250104T203546Z
UID:10002121-1744588800-1744934399@soccerstarevents.com
SUMMARY:ISLE OF MAN EASTER FOOTBALL CAMP 2025  (DAILY RATE)
DESCRIPTION:
URL:https://soccerstarevents.com/event/iom-easter-2025-daily/
LOCATION:King William’s College\, Castletown\, Isle of Man\, IM9 1TP\, United Kingdom
CATEGORIES:Camps
ATTACH;FMTTYPE=image/png:https://soccerstarevents.com/wp-content/uploads/2023/10/Screenshot-2023-10-04-at-11.29.38.png
GEO:54.0789204;-4.6374536
X-APPLE-STRUCTURED-LOCATION;VALUE=URI;X-ADDRESS=King William’s College Castletown Isle of Man IM9 1TP United Kingdom;X-APPLE-RADIUS=500;X-TITLE=Castletown:geo:-4.6374536,54.0789204
END:VEVENT
BEGIN:VEVENT
DTSTART;VALUE=DATE:20250414
DTEND;VALUE=DATE:20250418
DTSTAMP:20260420T033605
CREATED:20240914T132033Z
LAST-MODIFIED:20250311T164647Z
UID:10002099-1744588800-1744934399@soccerstarevents.com
SUMMARY:ISLE OF MAN EASTER FOOTBALL CAMP 2025
DESCRIPTION:  \nℹ️ Camp Information\n  \n📅  Date:\nMon 14th  – Thurs 17th April 2025 \n  \n⏰  Times:\nSTANDARD PACKAGE……9:30am – 4:30pm \nEXTRA TIME PACKAGE……..(8:30am – 5:30pm) \n  \n🏫  Venue: \nKing Williams’s College  \nCastletown  \nIsle of Man  \nIM9 1TP
URL:https://soccerstarevents.com/event/iom-ec-25/
LOCATION:King William’s College\, Castletown\, Isle of Man\, IM9 1TP\, United Kingdom
CATEGORIES:Camps
ATTACH;FMTTYPE=image/png:https://soccerstarevents.com/wp-content/uploads/2023/10/Screenshot-2023-10-04-at-11.29.38.png
GEO:54.0789204;-4.6374536
X-APPLE-STRUCTURED-LOCATION;VALUE=URI;X-ADDRESS=King William’s College Castletown Isle of Man IM9 1TP United Kingdom;X-APPLE-RADIUS=500;X-TITLE=Castletown:geo:-4.6374536,54.0789204
END:VEVENT
BEGIN:VEVENT
DTSTART;VALUE=DATE:20250114
DTEND;VALUE=DATE:20250409
DTSTAMP:20260420T033605
CREATED:20250107T093926Z
LAST-MODIFIED:20250107T104751Z
UID:10002123-1736812800-1744156799@soccerstarevents.com
SUMMARY:SWADLINCOTE WEEKLY FOOTBALL LESSONS | 1st Payment | Jan - Apr 2025
DESCRIPTION:This payment will cover your child’s place for the first 4 weeks of the term. \n✅ Tue 14 Jan\n✅ Tue 21 Jan\n✅ Tue 28 Jan\n✅ Tue 4 Feb \nPlease Note: Booking Fees apply and are non-refundable.
URL:https://soccerstarevents.com/event/swad-jan-apr-2025-1st-pay/
LOCATION:THE PINGLE ACADEMY\, Coronation Street\, Swadlincote\, DE11 0QA\, United Kingdom
CATEGORIES:Weekly Courses
END:VEVENT
BEGIN:VEVENT
DTSTART;VALUE=DATE:20250113
DTEND;VALUE=DATE:20250408
DTSTAMP:20260420T033605
CREATED:20250106T204433Z
LAST-MODIFIED:20250107T092630Z
UID:10002122-1736726400-1744070399@soccerstarevents.com
SUMMARY:WOLVERHAMPTON WEEKLY FOOTBALL LESSONS | 1st Payment | Jan-Apr 2025
DESCRIPTION:This payment will cover your child’s place for the first 4 weeks of the term. \n1st Payment (£30) covers the following weeks: \n✅ 13 Jan\n✅ 20 Jan\n✅ 27 Jan\n✅ 5 Feb
URL:https://soccerstarevents.com/event/wolves-jan-mar-25/
LOCATION:TETTENHALL COLLEGE\, Wood Road\, Wolverhampton\, WV6 8QX\, United Kingdom
CATEGORIES:Weekly Courses
ATTACH;FMTTYPE=image/png:https://soccerstarevents.com/wp-content/uploads/2023/02/Screenshot-2023-02-15-at-12.12.45.png
GEO:52.5926117;-2.174493
X-APPLE-STRUCTURED-LOCATION;VALUE=URI;X-ADDRESS=TETTENHALL COLLEGE Wood Road Wolverhampton WV6 8QX United Kingdom;X-APPLE-RADIUS=500;X-TITLE=Wood Road:geo:-2.174493,52.5926117
END:VEVENT
BEGIN:VEVENT
DTSTART;VALUE=DATE:20250110
DTEND;VALUE=DATE:20250412
DTSTAMP:20260420T033605
CREATED:20241125T095440Z
LAST-MODIFIED:20241125T111214Z
UID:10002113-1736467200-1744415999@soccerstarevents.com
SUMMARY:NOTTINGHAM WEEKLY FOOTBALL LESSONS (Jan - Apr 2025)
DESCRIPTION:1st Payment (£30) covers the following weeks: \n✅ 10 Jan\n✅ 17 Jan\n✅ 24 Jan\n✅ 31 Jan \n2nd Payment (£30) covers the following weeks: \n✅ 7 Feb\n✅ 14 Feb\n❌ 21 Feb  (NO FOOTBALL – Half term)\n✅ 28 Feb\n✅ 7 Mar\n \n3rd Payment (£37.50) covers the following weeks: \n✅ 14 Mar\n✅ 21 Mar\n✅ 28 Mar\n✅ 4 Apr\n✅ 11 Apr – PRESENTATION 🏆 \nPlease Note: Booking Fees apply and are non-refundable.
URL:https://soccerstarevents.com/event/nott-jan-apr-25/
LOCATION:BROCKLEHIGH COMMUNITY SPORTS & ART CENTRE\, (On site at: Brocklewood Primary School)\, Beechdale Road\, Nottingham\, NG8 3AJ\, United Kingdom
CATEGORIES:Weekly Courses
ATTACH;FMTTYPE=image/png:https://soccerstarevents.com/wp-content/uploads/2023/01/Screenshot-2023-01-27-at-22.10.57.png
GEO:52.972249;-1.217378
X-APPLE-STRUCTURED-LOCATION;VALUE=URI;X-ADDRESS=BROCKLEHIGH COMMUNITY SPORTS & ART CENTRE (On site at: Brocklewood Primary School) Beechdale Road Nottingham NG8 3AJ United Kingdom;X-APPLE-RADIUS=500;X-TITLE=(On site at: Brocklewood Primary School)\, Beechdale Road:geo:-1.217378,52.972249
END:VEVENT
BEGIN:VEVENT
DTSTART;VALUE=DATE:20250109
DTEND;VALUE=DATE:20250411
DTSTAMP:20260420T033605
CREATED:20241113T130205Z
LAST-MODIFIED:20250319T080331Z
UID:10002110-1736380800-1744329599@soccerstarevents.com
SUMMARY:SALFORD WEEKLY FOOTBALL LESSONS (Jan - Apr 2025)
DESCRIPTION:1st Payment (£30) covers the following weeks:\n✅ 9 Jan\n✅ 16 Jan\n✅ 23 Jan\n✅ 30 Jan \n\n2nd Payment (£30) covers the following weeks:\n✅ 6 Feb\n✅ 13 Feb\n❌ 20 Feb (NO FOOTBALL – Half term)\n✅ 27 Feb\n✅ 6 Mar \n\n3rd Payment (£30) covers the following weeks:\n✅ 20 Mar\n✅ 27 Mar\n✅ 3 Apr\n✅ 10 Apr – PRESENTATION 🏆 \nPlease Note: Booking Fees apply and are non-refundable.
URL:https://soccerstarevents.com/event/salford-jan-apr-2025/
LOCATION:Ellesmere Park High School\, Wentworth Road\, Eccles\,\, Manchester\, M30 9BP\, United Kingdom
CATEGORIES:Weekly Courses
ATTACH;FMTTYPE=image/png:https://soccerstarevents.com/wp-content/uploads/2023/01/Screenshot-2023-01-27-at-22.10.57.png
GEO:53.4926332;-2.3331731
X-APPLE-STRUCTURED-LOCATION;VALUE=URI;X-ADDRESS=Ellesmere Park High School Wentworth Road Eccles Manchester M30 9BP United Kingdom;X-APPLE-RADIUS=500;X-TITLE=Wentworth Road\, Eccles\,:geo:-2.3331731,53.4926332
END:VEVENT
BEGIN:VEVENT
DTSTART;VALUE=DATE:20250108
DTEND;VALUE=DATE:20250410
DTSTAMP:20260420T033605
CREATED:20241111T102939Z
LAST-MODIFIED:20241111T113008Z
UID:10002108-1736294400-1744243199@soccerstarevents.com
SUMMARY:WALSALL WEEKLY FOOTBALL LESSONS (Jan - Apr 2025)
DESCRIPTION:1st Payment (£30) covers the following weeks: \n✅ 8 Jan\n✅ 15 Jan\n✅ 22 Jan\n✅ 29 Jan \n\n2nd Payment (£30) covers the following weeks: \n✅ 5 Feb\n✅ 12 Feb\n❌ 19 Feb (NO FOOTBALL – Half term)\n✅ 26 Feb\n✅ 5 Mar \n\n3rd Payment (£37.50) covers the following weeks: \n✅ 12 Mar\n✅ 19 Mar\n✅ 26 Mar\n✅ 2 Apr\n✅ 9 Apr – PRESENTATION 🏆 \nPlease Note: Booking Fees apply and are non-refundable.
URL:https://soccerstarevents.com/event/wal-jan-apr-2025/
LOCATION:West Walsall E-Act Academy\, Primley Avenue\, Walsall\, WS2 9UA\, United Kingdom
CATEGORIES:Weekly Courses
ATTACH;FMTTYPE=image/png:https://soccerstarevents.com/wp-content/uploads/2023/01/Screenshot-2023-01-27-at-22.10.57.png
GEO:52.582143;-2.009182
X-APPLE-STRUCTURED-LOCATION;VALUE=URI;X-ADDRESS=West Walsall E-Act Academy Primley Avenue Walsall WS2 9UA United Kingdom;X-APPLE-RADIUS=500;X-TITLE=Primley Avenue:geo:-2.009182,52.582143
END:VEVENT
BEGIN:VEVENT
DTSTART;VALUE=DATE:20250107
DTEND;VALUE=DATE:20250409
DTSTAMP:20260420T033605
CREATED:20241110T135033Z
LAST-MODIFIED:20241110T151548Z
UID:10002107-1736208000-1744156799@soccerstarevents.com
SUMMARY:OLDBURY WEEKLY FOOTBALL LESSONS (Jan-Apr 2025)
DESCRIPTION:1st Payment (£30) covers the following weeks: \n✅ 7 Jan\n✅ 14 Jan\n✅ 21 Jan\n✅ 28 Jan \n\n2nd Payment (£30) covers the following weeks: \n✅ 4 Feb\n✅ 11 Feb\n❌ 18 Feb (NO FOOTBALL – Half term)\n✅ 25 Feb\n✅ 4 Mar \n\n3rd Payment (£37.50) covers the following weeks: \n✅ 11 Mar\n✅ 18 Mar\n✅ 25 Mar\n✅ 1 Apr\n✅ 8 Apr – PRESENTATION 🏆
URL:https://soccerstarevents.com/event/old-jan-apr-2025/
LOCATION:Oldbury Academy\, Pound Rd\, Oldbury\, B68 8NE\, United Kingdom
CATEGORIES:Weekly Courses
ATTACH;FMTTYPE=image/png:https://soccerstarevents.com/wp-content/uploads/2023/01/Screenshot-2023-01-27-at-22.10.57.png
GEO:52.480425;-2.008915
X-APPLE-STRUCTURED-LOCATION;VALUE=URI;X-ADDRESS=Oldbury Academy Pound Rd Oldbury B68 8NE United Kingdom;X-APPLE-RADIUS=500;X-TITLE=Pound Rd:geo:-2.008915,52.480425
END:VEVENT
BEGIN:VEVENT
DTSTART;VALUE=DATE:20250106
DTEND;VALUE=DATE:20250408
DTSTAMP:20260420T033605
CREATED:20241105T204019Z
LAST-MODIFIED:20250127T101858Z
UID:10002105-1736121600-1744070399@soccerstarevents.com
SUMMARY:WEDNESFIELD WEEKLY FOOTBALL LESSONS (Jan-Apr 2025)
DESCRIPTION:1st Payment (£30) covers the following weeks: \n✅ 6 Jan\n✅ 13 Jan\n✅ 20 Jan\n✅ 27 Jan \n\n2nd Payment (£30) covers the following weeks: \n✅ 3 Feb\n✅ 10 Feb\n❌ 17 Feb (NO FOOTBALL – Half term)\n✅ 24 Feb\n✅ 3 Mar \n\n3rd Payment (£37.50) covers the following weeks: \n✅ 10 Mar\n✅ 17 Mar\n✅ 24 Mar\n✅ 31 Mar\n✅ 7 Apr – PRESENTATION 🏆
URL:https://soccerstarevents.com/event/wfield-jan-apr-25/
LOCATION:COPPICE PERFORMING ARTS SCHOOL\, Ecclestone Road\, Wednesfield\, WV11 2QE\, United Kingdom
CATEGORIES:Weekly Courses
ATTACH;FMTTYPE=image/png:https://soccerstarevents.com/wp-content/uploads/2023/01/Screenshot-2023-01-27-at-22.10.57.png
GEO:52.611402;-2.053186
X-APPLE-STRUCTURED-LOCATION;VALUE=URI;X-ADDRESS=COPPICE PERFORMING ARTS SCHOOL Ecclestone Road Wednesfield WV11 2QE United Kingdom;X-APPLE-RADIUS=500;X-TITLE=Ecclestone Road:geo:-2.053186,52.611402
END:VEVENT
BEGIN:VEVENT
DTSTART;VALUE=DATE:20241125
DTEND;VALUE=DATE:20241217
DTSTAMP:20260420T033605
CREATED:20241120T111250Z
LAST-MODIFIED:20241120T112326Z
UID:10002112-1732492800-1734393599@soccerstarevents.com
SUMMARY:WOLVERHAMPTON WEEKLY LESSONS | 3rd Payment | 25 Nov - 16 Dec 2024
DESCRIPTION:
URL:https://soccerstarevents.com/event/wolverhampton-3rd-payment-sept-dec-term-2024/
LOCATION:TETTENHALL COLLEGE\, Wood Road\, Wolverhampton\, WV6 8QX\, United Kingdom
CATEGORIES:Weekly Courses
GEO:52.5926117;-2.174493
X-APPLE-STRUCTURED-LOCATION;VALUE=URI;X-ADDRESS=TETTENHALL COLLEGE Wood Road Wolverhampton WV6 8QX United Kingdom;X-APPLE-RADIUS=500;X-TITLE=Wood Road:geo:-2.174493,52.5926117
END:VEVENT
BEGIN:VEVENT
DTSTART;VALUE=DATE:20241031
DTEND;VALUE=DATE:20241102
DTSTAMP:20260420T033605
CREATED:20240908T134444Z
LAST-MODIFIED:20240909T222941Z
UID:10002098-1730332800-1730505599@soccerstarevents.com
SUMMARY:WEDNESFIELD FOOTBALL CAMP OCTOBER 2024
DESCRIPTION: 
URL:https://soccerstarevents.com/event/wfield-oct-2024/
LOCATION:COPPICE PERFORMING ARTS SCHOOL\, Ecclestone Road\, Wednesfield\, WV11 2QE\, United Kingdom
CATEGORIES:Camps
ATTACH;FMTTYPE=image/png:https://soccerstarevents.com/wp-content/uploads/2024/09/Screenshot-2024-09-07-at-18.18.49.png
GEO:52.611402;-2.053186
X-APPLE-STRUCTURED-LOCATION;VALUE=URI;X-ADDRESS=COPPICE PERFORMING ARTS SCHOOL Ecclestone Road Wednesfield WV11 2QE United Kingdom;X-APPLE-RADIUS=500;X-TITLE=Ecclestone Road:geo:-2.053186,52.611402
END:VEVENT
BEGIN:VEVENT
DTSTART;VALUE=DATE:20241028
DTEND;VALUE=DATE:20241031
DTSTAMP:20260420T033605
CREATED:20240907T172127Z
LAST-MODIFIED:20240915T163532Z
UID:10002097-1730073600-1730332799@soccerstarevents.com
SUMMARY:OLDBURY OCTOBER FOOTBALL CAMP 2024
DESCRIPTION:  \n \n 
URL:https://soccerstarevents.com/event/old-oct-24/
LOCATION:Oldbury Academy\, Pound Rd\, Oldbury\, B68 8NE\, United Kingdom
CATEGORIES:Camps
ATTACH;FMTTYPE=image/png:https://soccerstarevents.com/wp-content/uploads/2024/09/Screenshot-2024-09-07-at-18.18.49.png
GEO:52.480425;-2.008915
X-APPLE-STRUCTURED-LOCATION;VALUE=URI;X-ADDRESS=Oldbury Academy Pound Rd Oldbury B68 8NE United Kingdom;X-APPLE-RADIUS=500;X-TITLE=Pound Rd:geo:-2.008915,52.480425
END:VEVENT
BEGIN:VEVENT
DTSTART;VALUE=DATE:20241024
DTEND;VALUE=DATE:20241025
DTSTAMP:20260420T033605
CREATED:20240925T114920Z
LAST-MODIFIED:20240925T115806Z
UID:10002100-1729728000-1729814399@soccerstarevents.com
SUMMARY:SALFORD OCTOBER FOOTBALL CAMP 2024
DESCRIPTION: 
URL:https://soccerstarevents.com/event/salford-october-football-camp-2024/
LOCATION:SALFORD CITY ACADEMY\, Northfleet Road\, Manchester\, M30 7PQ\, United Kingdom
CATEGORIES:Camps
ATTACH;FMTTYPE=image/png:https://soccerstarevents.com/wp-content/uploads/2024/09/Screenshot-2024-09-07-at-18.18.49.png
GEO:53.4784411;-2.3796581
X-APPLE-STRUCTURED-LOCATION;VALUE=URI;X-ADDRESS=SALFORD CITY ACADEMY Northfleet Road Manchester M30 7PQ United Kingdom;X-APPLE-RADIUS=500;X-TITLE=Northfleet Road:geo:-2.3796581,53.4784411
END:VEVENT
BEGIN:VEVENT
DTSTART;VALUE=DATE:20241015
DTEND;VALUE=DATE:20241113
DTSTAMP:20260420T033605
CREATED:20241012T153836Z
LAST-MODIFIED:20241012T153836Z
UID:10002103-1728950400-1731455999@soccerstarevents.com
SUMMARY:SWADLINCOTE 2nd PAYMENT (Sept - Dec 2024 Term)
DESCRIPTION:
URL:https://soccerstarevents.com/event/swadlincote-2nd-payment-sept-dec-2024-term/
LOCATION:THE PINGLE ACADEMY\, Coronation Street\, Swadlincote\, DE11 0QA\, United Kingdom
CATEGORIES:Weekly Courses
END:VEVENT
BEGIN:VEVENT
DTSTART;VALUE=DATE:20241014
DTEND;VALUE=DATE:20241113
DTSTAMP:20260420T033605
CREATED:20241012T213515Z
LAST-MODIFIED:20241012T213515Z
UID:10002104-1728864000-1731455999@soccerstarevents.com
SUMMARY:WOLVERHAMPTON WEEKLY LESSONS | 2nd Payment | Sept - Dec Term 2024
DESCRIPTION:
URL:https://soccerstarevents.com/event/wolverhampton-weekly-lessons-2nd-payment-sept-dec-term-2024/
LOCATION:TETTENHALL COLLEGE\, Wood Road\, Wolverhampton\, WV6 8QX\, United Kingdom
CATEGORIES:Weekly Courses
GEO:52.5926117;-2.174493
X-APPLE-STRUCTURED-LOCATION;VALUE=URI;X-ADDRESS=TETTENHALL COLLEGE Wood Road Wolverhampton WV6 8QX United Kingdom;X-APPLE-RADIUS=500;X-TITLE=Wood Road:geo:-2.174493,52.5926117
END:VEVENT
BEGIN:VEVENT
DTSTART;VALUE=DATE:20240917
DTEND;VALUE=DATE:20241218
DTSTAMP:20260420T033605
CREATED:20240705T221755Z
LAST-MODIFIED:20240918T200254Z
UID:10002090-1726531200-1734479999@soccerstarevents.com
SUMMARY:SWADLINCOTE WEEKLY FOOTBALL LESSONS (Sept - Dec 2024)
DESCRIPTION:
URL:https://soccerstarevents.com/event/swadlincote-weekly-football-lessons-sept-dec-2024/
LOCATION:THE PINGLE ACADEMY\, Coronation Street\, Swadlincote\, DE11 0QA\, United Kingdom
CATEGORIES:Weekly Courses
END:VEVENT
BEGIN:VEVENT
DTSTART;VALUE=DATE:20240916
DTEND;VALUE=DATE:20241217
DTSTAMP:20260420T033605
CREATED:20240808T120739Z
LAST-MODIFIED:20240917T202801Z
UID:10002096-1726444800-1734393599@soccerstarevents.com
SUMMARY:WOLVERHAMPTON WEEKLY FOOTBALL LESSONS (Sept-Dec 2024)
DESCRIPTION:
URL:https://soccerstarevents.com/event/wolverhampton-sept-dec-2024/
LOCATION:TETTENHALL COLLEGE\, Wood Road\, Wolverhampton\, WV6 8QX\, United Kingdom
CATEGORIES:Weekly Courses
ATTACH;FMTTYPE=image/png:https://soccerstarevents.com/wp-content/uploads/2023/02/Screenshot-2023-02-15-at-12.12.45.png
GEO:52.5926117;-2.174493
X-APPLE-STRUCTURED-LOCATION;VALUE=URI;X-ADDRESS=TETTENHALL COLLEGE Wood Road Wolverhampton WV6 8QX United Kingdom;X-APPLE-RADIUS=500;X-TITLE=Wood Road:geo:-2.174493,52.5926117
END:VEVENT
BEGIN:VEVENT
DTSTART;VALUE=DATE:20240913
DTEND;VALUE=DATE:20241221
DTSTAMP:20260420T033605
CREATED:20240711T122716Z
LAST-MODIFIED:20241002T104536Z
UID:10002091-1726185600-1734739199@soccerstarevents.com
SUMMARY:NOTTINGHAM WEEKLY FOOTBALL LESSONS (Sept - Dec 2024)
DESCRIPTION:1st Payment (£30) covers the following weeks: \n✅ 13 Sept\n✅ 20 Sept\n✅ 27 Sept\n✅ 4 Oct \n2nd Payment (£30) covers the following weeks: \n✅ 11 Oct\n✅ 18 Oct\n❌ 25 Oct (NO FOOTBALL – Half term)\n❌ 1 Nov (NO FOOTBALL – Half term)\n✅ 8 Nov\n✅ 15 Nov\n \n3rd Payment (£37.50) covers the following weeks: \n✅ 22 Nov\n✅ 29 Nov\n✅ 6 Dec\n✅ 13 Dec\n✅ 20 Dec – PRESENTATION 🏆 \nPlease Note: Booking Fees apply and are non-refundable.
URL:https://soccerstarevents.com/event/nottingham-weekly-football-lessons-sept-dec-2024/
LOCATION:BROCKLEHIGH COMMUNITY SPORTS & ART CENTRE\, (On site at: Brocklewood Primary School)\, Beechdale Road\, Nottingham\, NG8 3AJ\, United Kingdom
CATEGORIES:Weekly Courses
ATTACH;FMTTYPE=image/png:https://soccerstarevents.com/wp-content/uploads/2023/01/Screenshot-2023-01-27-at-22.10.57.png
GEO:52.972249;-1.217378
X-APPLE-STRUCTURED-LOCATION;VALUE=URI;X-ADDRESS=BROCKLEHIGH COMMUNITY SPORTS & ART CENTRE (On site at: Brocklewood Primary School) Beechdale Road Nottingham NG8 3AJ United Kingdom;X-APPLE-RADIUS=500;X-TITLE=(On site at: Brocklewood Primary School)\, Beechdale Road:geo:-1.217378,52.972249
END:VEVENT
BEGIN:VEVENT
DTSTART;VALUE=DATE:20240912
DTEND;VALUE=DATE:20241220
DTSTAMP:20260420T033605
CREATED:20240716T115231Z
LAST-MODIFIED:20241121T161016Z
UID:10002095-1726099200-1734652799@soccerstarevents.com
SUMMARY:SALFORD WEEKLY FOOTBALL LESSONS (Sept - Dec 2024)
DESCRIPTION:1st Payment (£30) covers the following weeks: \n✅ 12 Sept\n✅ 19 Sept\n✅ 26 Sept\n✅ 3 Oct \n\n2nd Payment (£30) covers the following weeks: \n✅ 10 Oct\n✅ 17 Oct\n❌ 24 Oct (NO FOOTBALL – Half term\, Salford)\n❌ 31 Oct (NO FOOTBALL – Half term\, other regions)\n✅ 7 Nov\n✅ 14 Nov \n\n3rd Payment (£15) covers the following weeks: \n✅ 21 Nov\n❌28 Nov (NO FOOTBALL – Exam tables set up in Sports Hall)\n❌ 5 Dec (NO FOOTBALL – Exam tables set up in Sports Hall)\n❌ 12 Dec (NO FOOTBALL – Exam tables set up in Sports Hall)\n✅ 19 Dec – PRESENTATION 🏆
URL:https://soccerstarevents.com/event/salford-sept-dec-2024/
LOCATION:Ellesmere Park High School\, Wentworth Road\, Eccles\,\, Manchester\, M30 9BP\, United Kingdom
CATEGORIES:Weekly Courses
ATTACH;FMTTYPE=image/png:https://soccerstarevents.com/wp-content/uploads/2023/01/Screenshot-2023-01-27-at-22.10.57.png
GEO:53.4926332;-2.3331731
X-APPLE-STRUCTURED-LOCATION;VALUE=URI;X-ADDRESS=Ellesmere Park High School Wentworth Road Eccles Manchester M30 9BP United Kingdom;X-APPLE-RADIUS=500;X-TITLE=Wentworth Road\, Eccles\,:geo:-2.3331731,53.4926332
END:VEVENT
BEGIN:VEVENT
DTSTART;VALUE=DATE:20240911
DTEND;VALUE=DATE:20241219
DTSTAMP:20260420T033605
CREATED:20240716T090827Z
LAST-MODIFIED:20241001T143709Z
UID:10002094-1726012800-1734566399@soccerstarevents.com
SUMMARY:WALSALL WEEKLY FOOTBALL LESSONS (Sept - Dec 2024)
DESCRIPTION:1st Payment (£30) covers the following weeks: \n✅ 11 Sept\n✅ 18 Sept\n✅ 25 Sept\n✅ 2 Oct \n\n2nd Payment (£30) covers the following weeks: \n✅ 9 Oct\n✅ 16 Oct\n✅ 23 Oct\n❌ 30 Oct (NO FOOTBALL – Half term)\n✅ 6 Nov \n\n3rd Payment (£45) covers the following weeks: \n✅ 13 Nov\n✅ 20 Nov\n✅ 27 Nov\n✅ 4 Dec\n✅ 11 Dec\n✅ 18 Dec – PRESENTATION 🏆
URL:https://soccerstarevents.com/event/walsall-sept-dec-2024/
LOCATION:West Walsall E-Act Academy\, Primley Avenue\, Walsall\, WS2 9UA\, United Kingdom
CATEGORIES:Weekly Courses
ATTACH;FMTTYPE=image/png:https://soccerstarevents.com/wp-content/uploads/2023/01/Screenshot-2023-01-27-at-22.10.57.png
GEO:52.582143;-2.009182
X-APPLE-STRUCTURED-LOCATION;VALUE=URI;X-ADDRESS=West Walsall E-Act Academy Primley Avenue Walsall WS2 9UA United Kingdom;X-APPLE-RADIUS=500;X-TITLE=Primley Avenue:geo:-2.009182,52.582143
END:VEVENT
BEGIN:VEVENT
DTSTART;VALUE=DATE:20240910
DTEND;VALUE=DATE:20241218
DTSTAMP:20260420T033605
CREATED:20240714T071500Z
LAST-MODIFIED:20241126T101246Z
UID:10002093-1725926400-1734479999@soccerstarevents.com
SUMMARY:OLDBURY WEEKLY FOOTBALL LESSONS (Sept-Dec 2024)
DESCRIPTION:1st Payment (£30) covers the following weeks: \n✅ 10 Sept\n✅ 17 Sept\n✅ 24 Sept\n✅ 1 Oct \n\n2nd Payment (£30) covers the following weeks: \n✅ 8 Oct\n✅ 15 Oct\n✅ 22 Oct\n❌ 29 Oct (NO FOOTBALL – Half term)\n✅ 5 Nov \n\n3rd Payment (£45) covers the following weeks: \n✅ 12 Nov\n✅ 19 Nov\n✅ 26 Nov\n✅ 3 Dec\n✅ 10 Dec\n✅ 17 Dec – PRESENTATION 🏆
URL:https://soccerstarevents.com/event/oldbury-sept-dec-2024/
LOCATION:Oldbury Academy\, Pound Rd\, Oldbury\, B68 8NE\, United Kingdom
CATEGORIES:Weekly Courses
ATTACH;FMTTYPE=image/png:https://soccerstarevents.com/wp-content/uploads/2023/01/Screenshot-2023-01-27-at-22.10.57.png
GEO:52.480425;-2.008915
X-APPLE-STRUCTURED-LOCATION;VALUE=URI;X-ADDRESS=Oldbury Academy Pound Rd Oldbury B68 8NE United Kingdom;X-APPLE-RADIUS=500;X-TITLE=Pound Rd:geo:-2.008915,52.480425
END:VEVENT
BEGIN:VEVENT
DTSTART;VALUE=DATE:20240909
DTEND;VALUE=DATE:20241217
DTSTAMP:20260420T033605
CREATED:20240713T072201Z
LAST-MODIFIED:20241216T110551Z
UID:10002092-1725840000-1734393599@soccerstarevents.com
SUMMARY:WEDNESFIELD WEEKLY FOOTBALL LESSONS (Sep-Dec 2024)
DESCRIPTION:1st Payment (£30) covers the following weeks: \n✅ 9 Sept\n✅ 16 Sept\n✅ 23 Sept\n✅ 30 Sept \n\n2nd Payment (£30) covers the following weeks: \n✅ 7 Oct\n✅ 14 Oct\n✅ 21 Oct\n❌ 28 Oct (NO FOOTBALL – Half term)\n✅ 4 Nov \n\n3rd Payment (£45) covers the following weeks: \n✅ 11 Nov\n✅ 18 Nov\n✅ 25 Nov\n✅ 2 Dec\n✅ 9 Dec\n✅ 16 Dec – PRESENTATION 🏆
URL:https://soccerstarevents.com/event/wednesfield-weekly-football-lessons-sep-dec-2024/
LOCATION:COPPICE PERFORMING ARTS SCHOOL\, Ecclestone Road\, Wednesfield\, WV11 2QE\, United Kingdom
CATEGORIES:Weekly Courses
ATTACH;FMTTYPE=image/png:https://soccerstarevents.com/wp-content/uploads/2023/01/Screenshot-2023-01-27-at-22.10.57.png
GEO:52.611402;-2.053186
X-APPLE-STRUCTURED-LOCATION;VALUE=URI;X-ADDRESS=COPPICE PERFORMING ARTS SCHOOL Ecclestone Road Wednesfield WV11 2QE United Kingdom;X-APPLE-RADIUS=500;X-TITLE=Ecclestone Road:geo:-2.053186,52.611402
END:VEVENT
BEGIN:VEVENT
DTSTART;VALUE=DATE:20240827
DTEND;VALUE=DATE:20240831
DTSTAMP:20260420T033605
CREATED:20240503T192136Z
LAST-MODIFIED:20240503T202921Z
UID:10002079-1724716800-1725062399@soccerstarevents.com
SUMMARY:WEDNESFIELD SUMMER FOOTBALL CAMP 2024
DESCRIPTION:
URL:https://soccerstarevents.com/event/wednesfield-summer-camp-2024/
LOCATION:COPPICE PERFORMING ARTS SCHOOL\, Ecclestone Road\, Wednesfield\, WV11 2QE\, United Kingdom
CATEGORIES:Camps
ATTACH;FMTTYPE=image/png:https://soccerstarevents.com/wp-content/uploads/2024/05/Screenshot-2024-05-03-at-20.51.28.png
GEO:52.611402;-2.053186
X-APPLE-STRUCTURED-LOCATION;VALUE=URI;X-ADDRESS=COPPICE PERFORMING ARTS SCHOOL Ecclestone Road Wednesfield WV11 2QE United Kingdom;X-APPLE-RADIUS=500;X-TITLE=Ecclestone Road:geo:-2.053186,52.611402
END:VEVENT
BEGIN:VEVENT
DTSTART;VALUE=DATE:20240819
DTEND;VALUE=DATE:20240824
DTSTAMP:20260420T033605
CREATED:20240419T223552Z
LAST-MODIFIED:20240621T181555Z
UID:10002072-1724025600-1724457599@soccerstarevents.com
SUMMARY:ISLE OF MAN SUMMER FOOTBALL CAMP 2024  (DAILY RATE)
DESCRIPTION:
URL:https://soccerstarevents.com/event/isle-of-man-summer-football-camp-2024-daily-rate/
LOCATION:King William’s College\, Castletown\, Isle of Man\, IM9 1TP\, United Kingdom
CATEGORIES:Camps
ATTACH;FMTTYPE=image/png:https://soccerstarevents.com/wp-content/uploads/2023/02/Screenshot-2023-02-01-at-23.26.30.png
GEO:54.0789204;-4.6374536
X-APPLE-STRUCTURED-LOCATION;VALUE=URI;X-ADDRESS=King William’s College Castletown Isle of Man IM9 1TP United Kingdom;X-APPLE-RADIUS=500;X-TITLE=Castletown:geo:-4.6374536,54.0789204
END:VEVENT
BEGIN:VEVENT
DTSTART;VALUE=DATE:20240819
DTEND;VALUE=DATE:20240824
DTSTAMP:20260420T033605
CREATED:20240107T213734Z
LAST-MODIFIED:20240807T184346Z
UID:10002047-1724025600-1724457599@soccerstarevents.com
SUMMARY:ISLE OF MAN SUMMER FOOTBALL CAMP 2024
DESCRIPTION:
URL:https://soccerstarevents.com/event/isle-of-man-summer-football-camp-2024/
LOCATION:King William’s College\, Castletown\, Isle of Man\, IM9 1TP\, United Kingdom
CATEGORIES:Camps
ATTACH;FMTTYPE=image/png:https://soccerstarevents.com/wp-content/uploads/2023/02/Screenshot-2023-02-01-at-23.26.30.png
GEO:54.0789204;-4.6374536
X-APPLE-STRUCTURED-LOCATION;VALUE=URI;X-ADDRESS=King William’s College Castletown Isle of Man IM9 1TP United Kingdom;X-APPLE-RADIUS=500;X-TITLE=Castletown:geo:-4.6374536,54.0789204
END:VEVENT
BEGIN:VEVENT
DTSTART;VALUE=DATE:20240812
DTEND;VALUE=DATE:20240817
DTSTAMP:20260420T033605
CREATED:20240426T212933Z
LAST-MODIFIED:20240426T214240Z
UID:10002075-1723420800-1723852799@soccerstarevents.com
SUMMARY:SALFORD SUMMER FOOTBALL CAMP 2024 (DAILY RATE)
DESCRIPTION:
URL:https://soccerstarevents.com/event/salford-summer-football-camp-2024-daily-rate/
LOCATION:SALFORD CITY ACADEMY\, Northfleet Road\, Manchester\, M30 7PQ\, United Kingdom
CATEGORIES:Camps
ATTACH;FMTTYPE=image/png:https://soccerstarevents.com/wp-content/uploads/2023/02/Screenshot-2023-02-03-at-13.57.46.png
GEO:53.4784411;-2.3796581
X-APPLE-STRUCTURED-LOCATION;VALUE=URI;X-ADDRESS=SALFORD CITY ACADEMY Northfleet Road Manchester M30 7PQ United Kingdom;X-APPLE-RADIUS=500;X-TITLE=Northfleet Road:geo:-2.3796581,53.4784411
END:VEVENT
BEGIN:VEVENT
DTSTART;VALUE=DATE:20240812
DTEND;VALUE=DATE:20240817
DTSTAMP:20260420T033605
CREATED:20240220T182357Z
LAST-MODIFIED:20240509T111810Z
UID:10002061-1723420800-1723852799@soccerstarevents.com
SUMMARY:SALFORD SUMMER FOOTBALL CAMP 2024
DESCRIPTION:
URL:https://soccerstarevents.com/event/salford-summer-football-camp-2024/
LOCATION:SALFORD CITY ACADEMY\, Northfleet Road\, Manchester\, M30 7PQ\, United Kingdom
CATEGORIES:Camps
ATTACH;FMTTYPE=image/png:https://soccerstarevents.com/wp-content/uploads/2023/02/Screenshot-2023-02-03-at-13.57.46.png
GEO:53.4784411;-2.3796581
X-APPLE-STRUCTURED-LOCATION;VALUE=URI;X-ADDRESS=SALFORD CITY ACADEMY Northfleet Road Manchester M30 7PQ United Kingdom;X-APPLE-RADIUS=500;X-TITLE=Northfleet Road:geo:-2.3796581,53.4784411
END:VEVENT
BEGIN:VEVENT
DTSTART;VALUE=DATE:20240805
DTEND;VALUE=DATE:20240810
DTSTAMP:20260420T033605
CREATED:20240504T203800Z
LAST-MODIFIED:20240504T203800Z
UID:10002080-1722816000-1723247999@soccerstarevents.com
SUMMARY:OLDBURY SUMMER CAMP 2024 (Daily Rate)
DESCRIPTION:
URL:https://soccerstarevents.com/event/oldbury-summer-camp-2024-daily/
LOCATION:Oldbury Academy\, Pound Rd\, Oldbury\, B68 8NE\, United Kingdom
CATEGORIES:Camps
ATTACH;FMTTYPE=image/png:https://soccerstarevents.com/wp-content/uploads/2024/01/Screenshot-2024-01-26-at-16.11.34.png
GEO:52.480425;-2.008915
X-APPLE-STRUCTURED-LOCATION;VALUE=URI;X-ADDRESS=Oldbury Academy Pound Rd Oldbury B68 8NE United Kingdom;X-APPLE-RADIUS=500;X-TITLE=Pound Rd:geo:-2.008915,52.480425
END:VEVENT
BEGIN:VEVENT
DTSTART;VALUE=DATE:20240805
DTEND;VALUE=DATE:20240810
DTSTAMP:20260420T033605
CREATED:20240126T162342Z
LAST-MODIFIED:20240702T232101Z
UID:10002053-1722816000-1723247999@soccerstarevents.com
SUMMARY:OLDBURY SUMMER FOOTBALL CAMP 2024
DESCRIPTION:
URL:https://soccerstarevents.com/event/oldbury-summer-football-camp-2024/
LOCATION:Oldbury Academy\, Pound Rd\, Oldbury\, B68 8NE\, United Kingdom
CATEGORIES:Camps
ATTACH;FMTTYPE=image/png:https://soccerstarevents.com/wp-content/uploads/2024/01/Screenshot-2024-01-26-at-16.11.34.png
GEO:52.480425;-2.008915
X-APPLE-STRUCTURED-LOCATION;VALUE=URI;X-ADDRESS=Oldbury Academy Pound Rd Oldbury B68 8NE United Kingdom;X-APPLE-RADIUS=500;X-TITLE=Pound Rd:geo:-2.008915,52.480425
END:VEVENT
BEGIN:VEVENT
DTSTART;VALUE=DATE:20240729
DTEND;VALUE=DATE:20240803
DTSTAMP:20260420T033605
CREATED:20240509T211142Z
LAST-MODIFIED:20240509T211142Z
UID:10002082-1722211200-1722643199@soccerstarevents.com
SUMMARY:BALLINAMORE SUMMER SOCCER CAMP 2024 (Daily Rate)
DESCRIPTION:
URL:https://soccerstarevents.com/event/ballinamore-summer-soccer-camp-2024-daily-rate/
LOCATION:BALLINAMORE SOCCER FIELD\, 14 Tráthnóna\, Lahard\, Ballinamore\, Co. Leitrim\, N41 PY13\, Ireland
CATEGORIES:Camps
ATTACH;FMTTYPE=image/png:https://soccerstarevents.com/wp-content/uploads/2024/04/Screenshot-2024-04-18-at-22.14.06.png
END:VEVENT
END:VCALENDAR